BEGIN:VCALENDAR
VERSION:2.0
PRODID:-//My Calendar//mxm.dk//
BEGIN:VEVENT
SUMMARY:Exposicion  Rural Bariloche 2024
DTSTART:20240216T150000Z
DTEND:20240217T010000Z
DTSTAMP:20260423T193822Z
DESCRIPTION:Exposicion y Remate de animales. Actividades Ecuestres. Musica
 les. Espcio niños. Stand de productos regionales. Foodtrucks
END:VEVENT
BEGIN:VEVENT
SUMMARY:Exposicion  Rural Bariloche 2024
DTSTART:20240217T120000Z
DTEND:20240220T010000Z
DTSTAMP:20260423T193822Z
DESCRIPTION:Exposicion y Remate de animales. Actividades Ecuestres. Musica
 les. Espcio niños. Stand de productos regionales. Foodtrucks
END:VEVENT
BEGIN:VEVENT
SUMMARY:Exposicion  Rural Bariloche 2024
DTSTART:20240218T120000Z
DTEND:20240219T010000Z
DTSTAMP:20260423T193822Z
DESCRIPTION:Exposicion y Remate de animales. Actividades Ecuestres. Musica
 les. Espcio niños. Stand de productos regionales. Foodtrucks
END:VEVENT
END:VCALENDAR
