BEGIN:VCALENDAR
VERSION:2.0
PRODID:-//My Calendar//mxm.dk//
BEGIN:VEVENT
SUMMARY:FRANCISCA Y LXS EXPLORADORES
DTSTART:20230918T000000Z
DTEND:20230918T025500Z
DTSTAMP:20260423T084626Z
DESCRIPTION:<p style="text-align: center\; ">Liderada por el compositor co
 rdobés Franco Saglietti\, Francisca y Los Exploradores nace en 2013 con e
 l lanzamiento de su primer disco\, BARBUDA\, un clásico del Indie Argenti
 no.&nbsp\;</p><p style="text-align: center\; ">En 2015\, Francisca ganó l
 a Bienal de Arte de Buenos Aires y edito en vinilo FRANCO\, unos de sus di
 scos mas importantes producido por Adrián Dárgelos (Babasonicos).&nbsp\;
 </p><p style="text-align: center\; ">Los Exploradores\, suman en total 5 
 álbumes que incluyen también colaboraciones de grandes leyendas como Fit
 o Paez y Julieta Venegas.&nbsp\;</p><p style="text-align: center\; "><br><
 /p><p style="text-align: center\; ">Por otro lado\, Franco ha compuesto y 
 grabado junto a algunos de los referentes mas importantes de la nueva gene
 ración como Zoe Gotusso\, Conociendo Rusia\, Bandalos Chinos\, Perota Chi
 ngo\, Ainda\, Mi amigo Invencible\, El Zar y una larga lista de colegas.</
 p>
END:VEVENT
END:VCALENDAR
